BEGIN:VCALENDAR
VERSION:2.0
METHOD:PUBLISH
BEGIN:VEVENT
DTSTART:20260606T140000Z
DTEND:20260607T200000Z
LOCATION:Bolingbrook, IL 60440 (Full address will be shown on Fri, Jun 5 12:00am)
TRANSP: OPAQUE
SEQUENCE:0
UID:
DTSTAMP:20260422T011156Z
SUMMARY:Bountiful Bolingbrook: quality furniture, LPs, clocks, paperweights, electronics, more!
DESCRIPTION:Bountiful Bolingbrook: quality furniture, LPs, clocks, paperweights, electronics, more! A Rosey Glow Estate Sales 
UID:1776841916
STREET-ADDRESS:See website
POSTAL-CODE:60440
LOCALITY:Bolingbrook
REGION:ABBREV=IL
COUNTRY:ABBREV=US;ABBREV=USA:United States
URL;TYPE=Event Listing:https://estatesales.org/estate-sales/il/bolingbrook/60440/bountiful-bolingbrook-quality-furniture-lps-2436484
PRIORITY:1
CLASS:PUBLIC
SEQUENCE:0
STATUS:CONFIRMED
TRANSP:OPAQUE
END:VEVENT
END:VCALENDAR
