BEGIN:VCALENDAR
VERSION:2.0
METHOD:PUBLISH
BEGIN:VEVENT
DTSTART:20260606T140000Z
DTEND:20260607T200000Z
LOCATION:Villa Park, IL 60181 (Full address will be shown on Fri, Jun 5 12:00am)
TRANSP: OPAQUE
SEQUENCE:0
UID:
DTSTAMP:20260420T012619Z
SUMMARY:Vogue Villa Park! MCM Furniture, MCM Stereo Cabinet, Gun Safe, Grandfather Clock, Outdoor Wheel Chair Lift, Brass and Glass shelves, and so much more!
DESCRIPTION:Vogue Villa Park! MCM Furniture, MCM Stereo Cabinet, Gun Safe, Grandfather Clock, Outdoor Wheel Chair Lift, Brass and Glass shelves, and so much more! A Rosey Glow Estate Sales 
UID:1776669979
STREET-ADDRESS:See website
POSTAL-CODE:60181
LOCALITY:Villa Park
REGION:ABBREV=IL
COUNTRY:ABBREV=US;ABBREV=USA:United States
URL;TYPE=Event Listing:https://estatesales.org/estate-sales/il/villa-park/60181/vogue-villa-park-mcm-furniture-2427526
PRIORITY:1
CLASS:PUBLIC
SEQUENCE:0
STATUS:CONFIRMED
TRANSP:OPAQUE
END:VEVENT
END:VCALENDAR
