BEGIN:VCALENDAR
VERSION:2.0
METHOD:PUBLISH
BEGIN:VEVENT
DTSTART:20250606T170000Z
DTEND:20250606T190000Z
LOCATION:Redwood City, CA 94061
TRANSP: OPAQUE
SEQUENCE:0
UID:
DTSTAMP:20260424T142352Z
SUMMARY:Redwood City Estate Sale
DESCRIPTION:Redwood City Estate Sale NorCal  Estate Liquidations 
UID:1777062232
STREET-ADDRESS:See website
POSTAL-CODE:94061
LOCALITY:Redwood City
REGION:ABBREV=CA
COUNTRY:ABBREV=US;ABBREV=USA:United States
URL;TYPE=Event Listing:https://estatesales.org/estate-sales/ca/redwood-city/94061/redwood-city-estate-sale-2383138
PRIORITY:1
CLASS:PUBLIC
SEQUENCE:0
STATUS:CONFIRMED
TRANSP:OPAQUE
END:VEVENT
END:VCALENDAR
