BEGIN:VCALENDAR
VERSION:2.0
METHOD:PUBLISH
BEGIN:VEVENT
DTSTART:20240606T153000Z
DTEND:20240609T203000Z
LOCATION:Tampa, FL 33606
TRANSP: OPAQUE
SEQUENCE:0
UID:
DTSTAMP:20260421T145200Z
SUMMARY:Thursday thru Sunday South Tampa Estate Sale
DESCRIPTION:Thursday thru Sunday South Tampa Estate Sale Done Deal Estate Sales and Appraisals, LLC 
UID:1776804720
STREET-ADDRESS:See website
POSTAL-CODE:33606
LOCALITY:Tampa
REGION:ABBREV=FL
COUNTRY:ABBREV=US;ABBREV=USA:United States
URL;TYPE=Event Listing:https://estatesales.org/estate-sales/fl/tampa/33606/thursday-thru-sunday-south-tampa-2319435
PRIORITY:1
CLASS:PUBLIC
SEQUENCE:0
STATUS:CONFIRMED
TRANSP:OPAQUE
END:VEVENT
END:VCALENDAR
