BEGIN:VCALENDAR
VERSION:2.0
METHOD:PUBLISH
BEGIN:VEVENT
DTSTART:20240606T170000Z
DTEND:20240608T230000Z
LOCATION:Alameda, CA 94501
TRANSP: OPAQUE
SEQUENCE:0
UID:
DTSTAMP:20260421T021441Z
SUMMARY:Lynn’s presents an estate sale of a 4-bedroom immaculate East End home with designer furnishings (Restoration Hardware, Crate and Barrel, Pottery Barn, Williams Sonoma, Sur La Table).
DESCRIPTION:Lynn’s presents an estate sale of a 4-bedroom immaculate East End home with designer furnishings (Restoration Hardware, Crate and Barrel, Pottery Barn, Williams Sonoma, Sur La Table). Lynn's of Alameda LLC 
UID:1776759281
STREET-ADDRESS:See website
POSTAL-CODE:94501
LOCALITY:Alameda
REGION:ABBREV=CA
COUNTRY:ABBREV=US;ABBREV=USA:United States
URL;TYPE=Event Listing:https://estatesales.org/estate-sales/ca/alameda/94501/lynns-presents-an-estate-sale-2319082
PRIORITY:1
CLASS:PUBLIC
SEQUENCE:0
STATUS:CONFIRMED
TRANSP:OPAQUE
END:VEVENT
END:VCALENDAR
