BEGIN:VCALENDAR
VERSION:2.0
METHOD:PUBLISH
BEGIN:VEVENT
DTSTART:20240606T130000Z
DTEND:20240608T180000Z
LOCATION:Pomfret, MD 20675
TRANSP: OPAQUE
SEQUENCE:0
UID:
DTSTAMP:20260424T175441Z
SUMMARY:Guns, Ammo, Gold, Sterling, Rock & Roll Collection Galore! House and Garages FULL!
DESCRIPTION:Guns, Ammo, Gold, Sterling, Rock & Roll Collection Galore! House and Garages FULL! Estate Escape 
UID:1777074881
STREET-ADDRESS:See website
POSTAL-CODE:20675
LOCALITY:Pomfret
REGION:ABBREV=MD
COUNTRY:ABBREV=US;ABBREV=USA:United States
URL;TYPE=Event Listing:https://estatesales.org/estate-sales/md/pomfret-/20675/guns-ammo-gold-sterling-rock-2319172
PRIORITY:1
CLASS:PUBLIC
SEQUENCE:0
STATUS:CONFIRMED
TRANSP:OPAQUE
END:VEVENT
END:VCALENDAR
