BEGIN:VCALENDAR
VERSION:2.0
METHOD:PUBLISH
BEGIN:VEVENT
DTSTART:20240606T210000Z
DTEND:20240609T200000Z
LOCATION:Suwanee, GA 30024
TRANSP: OPAQUE
SEQUENCE:0
UID:
DTSTAMP:20260422T031433Z
SUMMARY:Time Capsule Sale in Suwanee Not to be Missed!
DESCRIPTION:Time Capsule Sale in Suwanee Not to be Missed! Ruth's Reselling, LLC 
UID:1776849273
STREET-ADDRESS:See website
POSTAL-CODE:30024
LOCALITY:Suwanee
REGION:ABBREV=GA
COUNTRY:ABBREV=US;ABBREV=USA:United States
URL;TYPE=Event Listing:https://estatesales.org/estate-sales/ga/suwanee/30024/time-capsule-sale-in-suwanee-2318683
PRIORITY:1
CLASS:PUBLIC
SEQUENCE:0
STATUS:CONFIRMED
TRANSP:OPAQUE
END:VEVENT
END:VCALENDAR
