BEGIN:VCALENDAR
VERSION:2.0
METHOD:PUBLISH
BEGIN:VEVENT
DTSTART:20260605T133000Z
DTEND:20260606T190000Z
LOCATION:Edison, NJ 08820 (Full address will be shown on Thu, Jun 4 12:00am)
TRANSP: OPAQUE
SEQUENCE:0
UID:
DTSTAMP:20260422T175008Z
SUMMARY:Edison, NJ
DESCRIPTION:Edison, NJ Pink Lady Liquidation 
UID:1776901808
STREET-ADDRESS:See website
POSTAL-CODE:08820
LOCALITY:Edison
REGION:ABBREV=NJ
COUNTRY:ABBREV=US;ABBREV=USA:United States
URL;TYPE=Event Listing:https://estatesales.org/estate-sales/nj/edison/08820/edison-nj-2431995
PRIORITY:1
CLASS:PUBLIC
SEQUENCE:0
STATUS:CONFIRMED
TRANSP:OPAQUE
END:VEVENT
END:VCALENDAR
