BEGIN:VCALENDAR
VERSION:2.0
METHOD:PUBLISH
BEGIN:VEVENT
DTSTART:20260605T130000Z
DTEND:20260607T180000Z
LOCATION:Nashville, TN 37215 (Full address will be shown on Thu, Jun 4 9:00am)
TRANSP: OPAQUE
SEQUENCE:0
UID:
DTSTAMP:20260423T172937Z
SUMMARY:HUGE Nashville Estate Sale: Phase 2
DESCRIPTION:HUGE Nashville Estate Sale: Phase 2 Estate Greats 
UID:1776986977
STREET-ADDRESS:See website
POSTAL-CODE:37215
LOCALITY:Nashville
REGION:ABBREV=TN
COUNTRY:ABBREV=US;ABBREV=USA:United States
URL;TYPE=Event Listing:https://estatesales.org/estate-sales/tn/nashville/37215/huge-nashville-estate-sale-phase-2436938
PRIORITY:1
CLASS:PUBLIC
SEQUENCE:0
STATUS:CONFIRMED
TRANSP:OPAQUE
END:VEVENT
END:VCALENDAR
