BEGIN:VCALENDAR
VERSION:2.0
METHOD:PUBLISH
BEGIN:VEVENT
DTSTART:20260605T150000Z
DTEND:20260606T210000Z
LOCATION:Snowflake, AZ 85937 (Full address will be shown on Thu, Jun 4 5:00pm)
TRANSP: OPAQUE
SEQUENCE:0
UID:
DTSTAMP:20260423T010846Z
SUMMARY:***SUMMER SALE IN SNOWFLAKE***
DESCRIPTION:***SUMMER SALE IN SNOWFLAKE*** Anderson Family Estate Sales & Services, LLC 
UID:1776928126
STREET-ADDRESS:See website
POSTAL-CODE:85937
LOCALITY:Snowflake
REGION:ABBREV=AZ
COUNTRY:ABBREV=US;ABBREV=USA:United States
URL;TYPE=Event Listing:https://estatesales.org/estate-sales/az/snowflake/85937/summer-sale-in-snowflake-2436770
PRIORITY:1
CLASS:PUBLIC
SEQUENCE:0
STATUS:CONFIRMED
TRANSP:OPAQUE
END:VEVENT
END:VCALENDAR
