BEGIN:VCALENDAR
VERSION:2.0
METHOD:PUBLISH
BEGIN:VEVENT
DTSTART:20250605T150000Z
DTEND:20250607T183000Z
LOCATION:Mesa, AZ 85209
TRANSP: OPAQUE
SEQUENCE:0
UID:
DTSTAMP:20260424T165453Z
SUMMARY:FANTASTIC FINDS FOR EVERYONE ALL AT ONE PLACE IN MESA THIS WEEKEND!!!
DESCRIPTION:FANTASTIC FINDS FOR EVERYONE ALL AT ONE PLACE IN MESA THIS WEEKEND!!! Trinity AZ Estate Sales 
UID:1777071293
STREET-ADDRESS:See website
POSTAL-CODE:85209
LOCALITY:Mesa
REGION:ABBREV=AZ
COUNTRY:ABBREV=US;ABBREV=USA:United States
URL;TYPE=Event Listing:https://estatesales.org/estate-sales/az/mesa/85209/fantastic-finds-for-everyone-all-2382504
PRIORITY:1
CLASS:PUBLIC
SEQUENCE:0
STATUS:CONFIRMED
TRANSP:OPAQUE
END:VEVENT
END:VCALENDAR
