BEGIN:VCALENDAR
VERSION:2.0
METHOD:PUBLISH
BEGIN:VEVENT
DTSTART:20210605T140000Z
DTEND:20210605T190000Z
LOCATION:Somerville, NJ 08876
TRANSP: OPAQUE
SEQUENCE:0
UID:
DTSTAMP:20260420T161906Z
SUMMARY:NJGES Is In Somerville 
DESCRIPTION:NJGES Is In Somerville  NJ Garage and Estate Sales 
UID:1776723546
STREET-ADDRESS:See website
POSTAL-CODE:08876
LOCALITY:Somerville
REGION:ABBREV=NJ
COUNTRY:ABBREV=US;ABBREV=USA:United States
URL;TYPE=Event Listing:https://estatesales.org/estate-sales/nj/somerville/08876/njges-is-in-somerville-1908673
PRIORITY:1
CLASS:PUBLIC
SEQUENCE:0
STATUS:CONFIRMED
TRANSP:OPAQUE
END:VEVENT
END:VCALENDAR
