BEGIN:VCALENDAR
VERSION:2.0
METHOD:PUBLISH
BEGIN:VEVENT
DTSTART:20260604T160000Z
DTEND:20260606T200000Z
LOCATION:Irvine, CA 92612 (Full address will be shown on Thu, Jun 4 6:00am)
TRANSP: OPAQUE
SEQUENCE:0
UID:
DTSTAMP:20260425T163951Z
SUMMARY:Grasons Co Elite of South OC 3 Day Estate Sale in Irvine
DESCRIPTION:Grasons Co Elite of South OC 3 Day Estate Sale in Irvine Grasons Co of South Orange County 
UID:1777156791
STREET-ADDRESS:See website
POSTAL-CODE:92612
LOCALITY:Irvine
REGION:ABBREV=CA
COUNTRY:ABBREV=US;ABBREV=USA:United States
URL;TYPE=Event Listing:https://estatesales.org/estate-sales/ca/irvine/92612/grasons-co-elite-of-south-2437258
PRIORITY:1
CLASS:PUBLIC
SEQUENCE:0
STATUS:CONFIRMED
TRANSP:OPAQUE
END:VEVENT
END:VCALENDAR
