BEGIN:VCALENDAR
VERSION:2.0
METHOD:PUBLISH
BEGIN:VEVENT
DTSTART:20220604T160000Z
DTEND:20220605T220000Z
LOCATION:Carmel By The Sea, CA 93923
TRANSP: OPAQUE
SEQUENCE:0
UID:
DTSTAMP:20260421T115743Z
SUMMARY:Carmel By The Sea Estate Sale
DESCRIPTION:Carmel By The Sea Estate Sale A Move Made SImple 
UID:1776794263
STREET-ADDRESS:See website
POSTAL-CODE:93923
LOCALITY:Carmel By The Sea
REGION:ABBREV=CA
COUNTRY:ABBREV=US;ABBREV=USA:United States
URL;TYPE=Event Listing:https://estatesales.org/estate-sales/ca/carmel-by-the-sea/93923/carmel-by-the-sea-estate-2051107
PRIORITY:1
CLASS:PUBLIC
SEQUENCE:0
STATUS:CONFIRMED
TRANSP:OPAQUE
END:VEVENT
END:VCALENDAR
