BEGIN:VCALENDAR
VERSION:2.0
METHOD:PUBLISH
BEGIN:VEVENT
DTSTART:20210604T170000Z
DTEND:20210606T210000Z
LOCATION:Santa Cruz, CA 95060
TRANSP: OPAQUE
SEQUENCE:0
UID:
DTSTAMP:20260421T115722Z
SUMMARY:Western Drive Estate Sale
DESCRIPTION:Western Drive Estate Sale A Move Made SImple 
UID:1776794242
STREET-ADDRESS:See website
POSTAL-CODE:95060
LOCALITY:Santa Cruz
REGION:ABBREV=CA
COUNTRY:ABBREV=US;ABBREV=USA:United States
URL;TYPE=Event Listing:https://estatesales.org/estate-sales/ca/santa-cruz/95060/western-drive-estate-sale-1912425
PRIORITY:1
CLASS:PUBLIC
SEQUENCE:0
STATUS:CONFIRMED
TRANSP:OPAQUE
END:VEVENT
END:VCALENDAR
