BEGIN:VCALENDAR
VERSION:2.0
METHOD:PUBLISH
BEGIN:VEVENT
DTSTART:20200604T160000Z
DTEND:20200606T220000Z
LOCATION:By appointment only.
TRANSP: OPAQUE
SEQUENCE:0
UID:
DTSTAMP:20260422T032342Z
SUMMARY:BEEHIVE ESTATES SALES PRESENTS A HUGE 3 DAY ORINDA SALE BY APPOINTMENT ONLY
DESCRIPTION:BEEHIVE ESTATES SALES PRESENTS A HUGE 3 DAY ORINDA SALE BY APPOINTMENT ONLY Beehive Estate Sales 
UID:1776849822
STREET-ADDRESS:See website
POSTAL-CODE:94563
LOCALITY:Orinda
REGION:ABBREV=CA
COUNTRY:ABBREV=US;ABBREV=USA:United States
URL;TYPE=Event Listing:https://estatesales.org/estate-sales/ca/orinda/94563/beehive-estates-sales-presents-a-1787873
PRIORITY:1
CLASS:PUBLIC
SEQUENCE:0
STATUS:CONFIRMED
TRANSP:OPAQUE
END:VEVENT
END:VCALENDAR
