BEGIN:VCALENDAR
VERSION:2.0
METHOD:PUBLISH
BEGIN:VEVENT
DTSTART:20230603T160000Z
DTEND:20230605T210000Z
LOCATION:Fort Worth, TX 76179
TRANSP: OPAQUE
SEQUENCE:0
UID:
DTSTAMP:20260419T082748Z
SUMMARY:Blue Moon Estate Sales: Lake Worth
DESCRIPTION:Blue Moon Estate Sales: Lake Worth Blue Moon Estate Sales - (Fort Worth North) 
UID:1776608868
STREET-ADDRESS:See website
POSTAL-CODE:76179
LOCALITY:Fort Worth
REGION:ABBREV=TX
COUNTRY:ABBREV=US;ABBREV=USA:United States
URL;TYPE=Event Listing:https://estatesales.org/estate-sales/tx/fort-worth/76179/blue-moon-estate-sales-lake-2173253
PRIORITY:1
CLASS:PUBLIC
SEQUENCE:0
STATUS:CONFIRMED
TRANSP:OPAQUE
END:VEVENT
END:VCALENDAR
