BEGIN:VCALENDAR
VERSION:2.0
METHOD:PUBLISH
BEGIN:VEVENT
DTSTART:20230603T120000Z
DTEND:20230604T180000Z
LOCATION:Fairfax Station, VA 22039
TRANSP: OPAQUE
SEQUENCE:0
UID:
DTSTAMP:20260423T121817Z
SUMMARY:Magnificent in Fairfax Station-Arhaus, RH-- All must go
DESCRIPTION:Magnificent in Fairfax Station-Arhaus, RH-- All must go Dixie Charm Estate Sales 
UID:1776968297
STREET-ADDRESS:See website
POSTAL-CODE:22039
LOCALITY:Fairfax Station
REGION:ABBREV=VA
COUNTRY:ABBREV=US;ABBREV=USA:United States
URL;TYPE=Event Listing:https://estatesales.org/estate-sales/va/fairfax-station/22039/magnificent-in-fairfax-stationarhaus-rh-2185367
PRIORITY:1
CLASS:PUBLIC
SEQUENCE:0
STATUS:CONFIRMED
TRANSP:OPAQUE
END:VEVENT
END:VCALENDAR
