BEGIN:VCALENDAR
VERSION:2.0
METHOD:PUBLISH
BEGIN:VEVENT
DTSTART:20210603T150000Z
DTEND:20210606T210000Z
LOCATION:Arlington Heights, IL 60005
TRANSP: OPAQUE
SEQUENCE:0
UID:
DTSTAMP:20260423T190639Z
SUMMARY:Arlington Heights Moving Sale - 75% Off Sunday! Vintage Traditional Furniture, Decor, Jewelry
DESCRIPTION:Arlington Heights Moving Sale - 75% Off Sunday! Vintage Traditional Furniture, Decor, Jewelry Brie's Estate Sales 
UID:1776992799
STREET-ADDRESS:See website
POSTAL-CODE:60005
LOCALITY:Arlington Heights
REGION:ABBREV=IL
COUNTRY:ABBREV=US;ABBREV=USA:United States
URL;TYPE=Event Listing:https://estatesales.org/estate-sales/il/arlington-heights/60005/arlington-heights-moving-sale-50-1900017
PRIORITY:1
CLASS:PUBLIC
SEQUENCE:0
STATUS:CONFIRMED
TRANSP:OPAQUE
END:VEVENT
END:VCALENDAR
