BEGIN:VCALENDAR
VERSION:2.0
METHOD:PUBLISH
BEGIN:VEVENT
DTSTART:20140603T220000Z
DTEND:20140606T020000Z
LOCATION:Capron, VA 23829
TRANSP: OPAQUE
SEQUENCE:0
UID:
DTSTAMP:20260424T115755Z
SUMMARY:Southampton Co. Estate Auction
DESCRIPTION:Southampton Co. Estate Auction United Country-A.B. Cole & Associates 
UID:1777053475
STREET-ADDRESS:See website
POSTAL-CODE:23829
LOCALITY:Capron
REGION:ABBREV=VA
COUNTRY:ABBREV=US;ABBREV=USA:United States
URL;TYPE=Event Listing:https://estatesales.org/estate-sales/va/capron/23829/southampton-co-estate-auction-397485
PRIORITY:1
CLASS:PUBLIC
SEQUENCE:0
STATUS:CONFIRMED
TRANSP:OPAQUE
END:VEVENT
END:VCALENDAR
