BEGIN:VCALENDAR
VERSION:2.0
METHOD:PUBLISH
BEGIN:VEVENT
DTSTART:20230602T170000Z
DTEND:20230604T230000Z
LOCATION:Loomis, CA 95650
TRANSP: OPAQUE
SEQUENCE:0
UID:
DTSTAMP:20260423T150443Z
SUMMARY:Antiques In The Barn- Reduced Prices!
DESCRIPTION:Antiques In The Barn- Reduced Prices! Longacre Flea Estate Sales 
UID:1776978283
STREET-ADDRESS:See website
POSTAL-CODE:95650
LOCALITY:Loomis
REGION:ABBREV=CA
COUNTRY:ABBREV=US;ABBREV=USA:United States
URL;TYPE=Event Listing:https://estatesales.org/estate-sales/ca/loomis/95650/antiques-in-the-barn-reduced-2188123
PRIORITY:1
CLASS:PUBLIC
SEQUENCE:0
STATUS:CONFIRMED
TRANSP:OPAQUE
END:VEVENT
END:VCALENDAR
