BEGIN:VCALENDAR
VERSION:2.0
METHOD:PUBLISH
BEGIN:VEVENT
DTSTART:20230602T140000Z
DTEND:20230604T200000Z
LOCATION:Briarcliff Manor, NY 10510
TRANSP: OPAQUE
SEQUENCE:0
UID:
DTSTAMP:20260422T025701Z
SUMMARY:EARLY AMERICAN ANTIQUES: The LIFETIME COLLECTION of Judge & Mrs. William Wetzel, Briarcliff Manor
DESCRIPTION:EARLY AMERICAN ANTIQUES: The LIFETIME COLLECTION of Judge & Mrs. William Wetzel, Briarcliff Manor Hudson Estate Sales, LLC 
UID:1776848221
STREET-ADDRESS:See website
POSTAL-CODE:10510
LOCALITY:Briarcliff Manor
REGION:ABBREV=NY
COUNTRY:ABBREV=US;ABBREV=USA:United States
URL;TYPE=Event Listing:https://estatesales.org/estate-sales/ny/briarcliff-manor/10510/early-american-antiques-the-lifetime-2185337
PRIORITY:1
CLASS:PUBLIC
SEQUENCE:0
STATUS:CONFIRMED
TRANSP:OPAQUE
END:VEVENT
END:VCALENDAR
