BEGIN:VCALENDAR
VERSION:2.0
METHOD:PUBLISH
BEGIN:VEVENT
DTSTART:20170602T150000Z
DTEND:20170604T190000Z
LOCATION:Brighton, MI 48114
TRANSP: OPAQUE
SEQUENCE:0
UID:
DTSTAMP:20260424T012512Z
SUMMARY:Walla-Pa-Loosa Estate Sale in Brighton, MI
DESCRIPTION:Walla-Pa-Loosa Estate Sale in Brighton, MI TLC Premiere Estate Sales, LLC 
UID:1777015512
STREET-ADDRESS:See website
POSTAL-CODE:48114
LOCALITY:Brighton
REGION:ABBREV=MI
COUNTRY:ABBREV=US;ABBREV=USA:United States
URL;TYPE=Event Listing:https://estatesales.org/estate-sales/mi/brighton/48114/wallapaloosa-estate-sale-in-brighton-1221223
PRIORITY:1
CLASS:PUBLIC
SEQUENCE:0
STATUS:CONFIRMED
TRANSP:OPAQUE
END:VEVENT
END:VCALENDAR
