BEGIN:VCALENDAR
VERSION:2.0
METHOD:PUBLISH
BEGIN:VEVENT
DTSTART:20160602T140000Z
DTEND:20160604T190000Z
LOCATION:Toledo, OH 43606
TRANSP: OPAQUE
SEQUENCE:0
UID:
DTSTAMP:20260423T233335Z
SUMMARY:Outstanding Estate Sale in Ottawa Hills, OH
DESCRIPTION:Outstanding Estate Sale in Ottawa Hills, OH TLC Premiere Estate Sales, LLC 
UID:1777008815
STREET-ADDRESS:See website
POSTAL-CODE:43606
LOCALITY:Toledo
REGION:ABBREV=OH
COUNTRY:ABBREV=US;ABBREV=USA:United States
URL;TYPE=Event Listing:https://estatesales.org/estate-sales/oh/toledo/43606/outstanding-estate-sale-in-ottawa-865031
PRIORITY:1
CLASS:PUBLIC
SEQUENCE:0
STATUS:CONFIRMED
TRANSP:OPAQUE
END:VEVENT
END:VCALENDAR
