BEGIN:VCALENDAR
VERSION:2.0
METHOD:PUBLISH
BEGIN:VEVENT
DTSTART:20230601T150000Z
DTEND:20230604T210000Z
LOCATION:Riverside, CA 92504
TRANSP: OPAQUE
SEQUENCE:0
UID:
DTSTAMP:20260419T234726Z
SUMMARY:Huge 4 Day Riverside Sale Full of Fabric, Quilting Fabrics and Supplies, Sewing Supplies, Patterns, Notions & Jewelry!  Most is Brand New.  Furniture & Housewares as Well.
DESCRIPTION:Huge 4 Day Riverside Sale Full of Fabric, Quilting Fabrics and Supplies, Sewing Supplies, Patterns, Notions & Jewelry!  Most is Brand New.  Furniture & Housewares as Well. Estate Sales by Dee 
UID:1776664046
STREET-ADDRESS:See website
POSTAL-CODE:92504
LOCALITY:Riverside
REGION:ABBREV=CA
COUNTRY:ABBREV=US;ABBREV=USA:United States
URL;TYPE=Event Listing:https://estatesales.org/estate-sales/ca/riverside/92504/huge-4-day-riverside-sale-2188821
PRIORITY:1
CLASS:PUBLIC
SEQUENCE:0
STATUS:CONFIRMED
TRANSP:OPAQUE
END:VEVENT
END:VCALENDAR
