BEGIN:VCALENDAR
VERSION:2.0
METHOD:PUBLISH
BEGIN:VEVENT
DTSTART:20170601T130000Z
DTEND:20170603T190000Z
LOCATION:New Port Richey, FL 34652
TRANSP: OPAQUE
SEQUENCE:0
UID:
DTSTAMP:20260419T144016Z
SUMMARY:Estate  Sale
DESCRIPTION:Estate  Sale J & J Estate Sales 
UID:1776631216
STREET-ADDRESS:See website
POSTAL-CODE:34652
LOCALITY:New Port Richey
REGION:ABBREV=FL
COUNTRY:ABBREV=US;ABBREV=USA:United States
URL;TYPE=Event Listing:https://estatesales.org/estate-sales/fl/new-port-richey/34652/estate-sale-1219765
PRIORITY:1
CLASS:PUBLIC
SEQUENCE:0
STATUS:CONFIRMED
TRANSP:OPAQUE
END:VEVENT
END:VCALENDAR
