BEGIN:VCALENDAR
VERSION:2.0
METHOD:PUBLISH
BEGIN:VEVENT
DTSTART:20120601T130000Z
DTEND:20120602T210000Z
LOCATION:Gainesville, FL 32608
TRANSP: OPAQUE
SEQUENCE:0
UID:
DTSTAMP:20260423T130940Z
SUMMARY:A TRUE MAN'S Sale! 
DESCRIPTION:A TRUE MAN'S Sale!  Estate Sales Service Lynn OKeefe Auction Co. & Appraisals PLLC 
UID:1776971380
STREET-ADDRESS:See website
POSTAL-CODE:32608
LOCALITY:Gainesville
REGION:ABBREV=FL
COUNTRY:ABBREV=US;ABBREV=USA:United States
URL;TYPE=Event Listing:https://estatesales.org/estate-sales/fl/gainesville/32608/a-true-mans-sale-174968
PRIORITY:1
CLASS:PUBLIC
SEQUENCE:0
STATUS:CONFIRMED
TRANSP:OPAQUE
END:VEVENT
END:VCALENDAR
