BEGIN:VCALENDAR
VERSION:2.0
METHOD:PUBLISH
BEGIN:VEVENT
DTSTART:20250531T160000Z
DTEND:20250601T200000Z
LOCATION:Shawnee, KS 66218
TRANSP: OPAQUE
SEQUENCE:0
UID:
DTSTAMP:20260419T070215Z
SUMMARY:Caring Transitions KC John Deere, Trex, upright freezer and lots more!
DESCRIPTION:Caring Transitions KC John Deere, Trex, upright freezer and lots more! Caring Transitions Kansas City 
UID:1776603735
STREET-ADDRESS:See website
POSTAL-CODE:66218
LOCALITY:Shawnee
REGION:ABBREV=KS
COUNTRY:ABBREV=US;ABBREV=USA:United States
URL;TYPE=Event Listing:https://estatesales.org/estate-sales/ks/shawnee/66218/caring-transitions-kc-john-deere-2381555
PRIORITY:1
CLASS:PUBLIC
SEQUENCE:0
STATUS:CONFIRMED
TRANSP:OPAQUE
END:VEVENT
END:VCALENDAR
