BEGIN:VCALENDAR
VERSION:2.0
METHOD:PUBLISH
BEGIN:VEVENT
DTSTART:20250531T140000Z
DTEND:20250531T200000Z
LOCATION:Silver Spring, MD 20910
TRANSP: OPAQUE
SEQUENCE:0
UID:
DTSTAMP:20260421T200112Z
SUMMARY:Big Moon Little Stars One-Day Sale in Silver Spring!
DESCRIPTION:Big Moon Little Stars One-Day Sale in Silver Spring! Big Moon Little Stars 
UID:1776823272
STREET-ADDRESS:See website
POSTAL-CODE:20910
LOCALITY:Silver Spring
REGION:ABBREV=MD
COUNTRY:ABBREV=US;ABBREV=USA:United States
URL;TYPE=Event Listing:https://estatesales.org/estate-sales/md/silver-spring/20910/big-moon-little-stars-oneday-2381168
PRIORITY:1
CLASS:PUBLIC
SEQUENCE:0
STATUS:CONFIRMED
TRANSP:OPAQUE
END:VEVENT
END:VCALENDAR
