BEGIN:VCALENDAR
VERSION:2.0
METHOD:PUBLISH
BEGIN:VEVENT
DTSTART:20250531T160000Z
DTEND:20250601T220000Z
LOCATION:Simi Valley, CA 93065
TRANSP: OPAQUE
SEQUENCE:0
UID:
DTSTAMP:20260424T202745Z
SUMMARY:50% + Off - Simi Valley Leaders Hill Top Home - 70 Years of Goodies
DESCRIPTION:50% + Off - Simi Valley Leaders Hill Top Home - 70 Years of Goodies Sharon Yost Estate Sales 
UID:1777084065
STREET-ADDRESS:See website
POSTAL-CODE:93065
LOCALITY:Simi Valley
REGION:ABBREV=CA
COUNTRY:ABBREV=US;ABBREV=USA:United States
URL;TYPE=Event Listing:https://estatesales.org/estate-sales/ca/simi-valley/93065/50-off-simi-valley-leaders-2381685
PRIORITY:1
CLASS:PUBLIC
SEQUENCE:0
STATUS:CONFIRMED
TRANSP:OPAQUE
END:VEVENT
END:VCALENDAR
