BEGIN:VCALENDAR
VERSION:2.0
METHOD:PUBLISH
BEGIN:VEVENT
DTSTART:20240531T140000Z
DTEND:20240602T190000Z
LOCATION:Oshkosh, WI 54904
TRANSP: OPAQUE
SEQUENCE:0
UID:
DTSTAMP:20260424T073830Z
SUMMARY:Digger's Treasure Hunt Sale in Oshkosh by Greater Fox Valley Estate Sales
DESCRIPTION:Digger's Treasure Hunt Sale in Oshkosh by Greater Fox Valley Estate Sales Greater Fox Valley Estate Sales / Chip's Treasures LLC 
UID:1777037910
STREET-ADDRESS:See website
POSTAL-CODE:54904
LOCALITY:Oshkosh
REGION:ABBREV=WI
COUNTRY:ABBREV=US;ABBREV=USA:United States
URL;TYPE=Event Listing:https://estatesales.org/estate-sales/wi/oshkosh/54904/diggers-treasure-hunt-sale-in-2308583
PRIORITY:1
CLASS:PUBLIC
SEQUENCE:0
STATUS:CONFIRMED
TRANSP:OPAQUE
END:VEVENT
END:VCALENDAR
