BEGIN:VCALENDAR
VERSION:2.0
METHOD:PUBLISH
BEGIN:VEVENT
DTSTART:20240531T150000Z
DTEND:20240602T210000Z
LOCATION:Riverside, CA 92504
TRANSP: OPAQUE
SEQUENCE:0
UID:
DTSTAMP:20260419T223743Z
SUMMARY:Riverside Sale Full of Handyman Tools and Equipment, Camera Equipment, Archery Equipment, and Much More!
DESCRIPTION:Riverside Sale Full of Handyman Tools and Equipment, Camera Equipment, Archery Equipment, and Much More! Estate Sales by Dee 
UID:1776659863
STREET-ADDRESS:See website
POSTAL-CODE:92504
LOCALITY:Riverside
REGION:ABBREV=CA
COUNTRY:ABBREV=US;ABBREV=USA:United States
URL;TYPE=Event Listing:https://estatesales.org/estate-sales/ca/riverside/92504/riverside-sale-full-of-handyman-2318342
PRIORITY:1
CLASS:PUBLIC
SEQUENCE:0
STATUS:CONFIRMED
TRANSP:OPAQUE
END:VEVENT
END:VCALENDAR
