BEGIN:VCALENDAR
VERSION:2.0
METHOD:PUBLISH
BEGIN:VEVENT
DTSTART:20240531T120000Z
DTEND:20240601T190000Z
LOCATION:Avon, CT 06001
TRANSP: OPAQUE
SEQUENCE:0
UID:
DTSTAMP:20260425T152509Z
SUMMARY:Avon Estate Sale
DESCRIPTION:Avon Estate Sale Sean Mahoney Estate Sales LLC 
UID:1777152309
STREET-ADDRESS:See website
POSTAL-CODE:06001
LOCALITY:Avon
REGION:ABBREV=CT
COUNTRY:ABBREV=US;ABBREV=USA:United States
URL;TYPE=Event Listing:https://estatesales.org/estate-sales/ct/avon/06001/avon-estate-sale-2317954
PRIORITY:1
CLASS:PUBLIC
SEQUENCE:0
STATUS:CONFIRMED
TRANSP:OPAQUE
END:VEVENT
END:VCALENDAR
