BEGIN:VCALENDAR
VERSION:2.0
METHOD:PUBLISH
BEGIN:VEVENT
DTSTART:20180531T160000Z
DTEND:20180603T210000Z
LOCATION:Tehachapi, CA 93561
TRANSP: OPAQUE
SEQUENCE:0
UID:
DTSTAMP:20260420T172947Z
SUMMARY:Packed Bear Valley Springs Estate Sale - Sewing and Crafting, Princess House, Like New Furniture, by Expert Estates
DESCRIPTION:Packed Bear Valley Springs Estate Sale - Sewing and Crafting, Princess House, Like New Furniture, by Expert Estates Expert Estate Sales by L. A. Kroese 
UID:1776727787
STREET-ADDRESS:See website
POSTAL-CODE:93561
LOCALITY:Tehachapi
REGION:ABBREV=CA
COUNTRY:ABBREV=US;ABBREV=USA:United States
URL;TYPE=Event Listing:https://estatesales.org/estate-sales/ca/tehachapi/93561/packed-bear-valley-springs-estate-1501523
PRIORITY:1
CLASS:PUBLIC
SEQUENCE:0
STATUS:CONFIRMED
TRANSP:OPAQUE
END:VEVENT
END:VCALENDAR
