BEGIN:VCALENDAR
VERSION:2.0
METHOD:PUBLISH
BEGIN:VEVENT
DTSTART:20180531T220000Z
DTEND:20180601T020000Z
LOCATION:Watertown, WI 53094
TRANSP: OPAQUE
SEQUENCE:0
UID:
DTSTAMP:20260422T025841Z
SUMMARY:Thursday May 31st, 2018
DESCRIPTION:Thursday May 31st, 2018 Premium Estates 
UID:1776848321
STREET-ADDRESS:See website
POSTAL-CODE:53094
LOCALITY:Watertown
REGION:ABBREV=WI
COUNTRY:ABBREV=US;ABBREV=USA:United States
URL;TYPE=Event Listing:https://estatesales.org/estate-sales/wi/watertown/53094/thursday-may-31st-2018-1510651
PRIORITY:1
CLASS:PUBLIC
SEQUENCE:0
STATUS:CONFIRMED
TRANSP:OPAQUE
END:VEVENT
END:VCALENDAR
