BEGIN:VCALENDAR
VERSION:2.0
METHOD:PUBLISH
BEGIN:VEVENT
DTSTART:20130531T140000Z
DTEND:20130602T180000Z
LOCATION:Coventry, RI 02816
TRANSP: OPAQUE
SEQUENCE:0
UID:
DTSTAMP:20260421T123646Z
SUMMARY:Coventry Estate Sale
DESCRIPTION:Coventry Estate Sale Jarred's Homegoods / Treasure Brokers 
UID:1776796606
STREET-ADDRESS:See website
POSTAL-CODE:02816
LOCALITY:Coventry
REGION:ABBREV=RI
COUNTRY:ABBREV=US;ABBREV=USA:United States
URL;TYPE=Event Listing:https://estatesales.org/estate-sales/ri/coventry/02816/coventry-estate-sale-276381
PRIORITY:1
CLASS:PUBLIC
SEQUENCE:0
STATUS:CONFIRMED
TRANSP:OPAQUE
END:VEVENT
END:VCALENDAR
