BEGIN:VCALENDAR
VERSION:2.0
METHOD:PUBLISH
BEGIN:VEVENT
DTSTART:20260530T130000Z
DTEND:20260531T180000Z
LOCATION:East Bridgewater, MA 02333 (Full address will be shown on Fri, May 29 8:00pm)
TRANSP: OPAQUE
SEQUENCE:0
UID:
DTSTAMP:20260423T092051Z
SUMMARY:LEGENDARY TREASURES GALORE EAST BRIDGEWATER ESTATE SALE MAY 30TH 31ST ANTIQUES PERIOD FURNITURE ART STERLING EPHEMERA RUGS OLD PAINTINGS ADVERTISING CHINA TOOLS HUGE BARN! A MUST NOT MISS! GET READY!
DESCRIPTION:LEGENDARY TREASURES GALORE EAST BRIDGEWATER ESTATE SALE MAY 30TH 31ST ANTIQUES PERIOD FURNITURE ART STERLING EPHEMERA RUGS OLD PAINTINGS ADVERTISING CHINA TOOLS HUGE BARN! A MUST NOT MISS! GET READY! BEST RATE CLEANOUTS & ESTATE SALES 
UID:1776957651
STREET-ADDRESS:See website
POSTAL-CODE:02333
LOCALITY:East Bridgewater
REGION:ABBREV=MA
COUNTRY:ABBREV=US;ABBREV=USA:United States
URL;TYPE=Event Listing:https://estatesales.org/estate-sales/ma/east-bridgewater/02333/legendary-treasures-galore-east-bridgewater-2436257
PRIORITY:1
CLASS:PUBLIC
SEQUENCE:0
STATUS:CONFIRMED
TRANSP:OPAQUE
END:VEVENT
END:VCALENDAR
