BEGIN:VCALENDAR
VERSION:2.0
METHOD:PUBLISH
BEGIN:VEVENT
DTSTART:20250530T130000Z
DTEND:20250601T190000Z
LOCATION:Franklin, TN 37064
TRANSP: OPAQUE
SEQUENCE:0
UID:
DTSTAMP:20260419T101833Z
SUMMARY:Exciting Franklin Estate Sale
DESCRIPTION:Exciting Franklin Estate Sale Estate Greats 
UID:1776615513
STREET-ADDRESS:See website
POSTAL-CODE:37064
LOCALITY:Franklin
REGION:ABBREV=TN
COUNTRY:ABBREV=US;ABBREV=USA:United States
URL;TYPE=Event Listing:https://estatesales.org/estate-sales/tn/franklin/37064/exciting-franklin-estate-sale-2376790
PRIORITY:1
CLASS:PUBLIC
SEQUENCE:0
STATUS:CONFIRMED
TRANSP:OPAQUE
END:VEVENT
END:VCALENDAR
