BEGIN:VCALENDAR
VERSION:2.0
METHOD:PUBLISH
BEGIN:VEVENT
DTSTART:20250530T130000Z
DTEND:20250531T190000Z
LOCATION:Westwood, MA 02090
TRANSP: OPAQUE
SEQUENCE:0
UID:
DTSTAMP:20260419T122033Z
SUMMARY:Terrific Westwood Estate Sale
DESCRIPTION:Terrific Westwood Estate Sale Estate Sale Specialists, LLC 
UID:1776622833
STREET-ADDRESS:See website
POSTAL-CODE:02090
LOCALITY:Westwood
REGION:ABBREV=MA
COUNTRY:ABBREV=US;ABBREV=USA:United States
URL;TYPE=Event Listing:https://estatesales.org/estate-sales/ma/westwood/02090/terrific-westwood-estate-sale-2379261
PRIORITY:1
CLASS:PUBLIC
SEQUENCE:0
STATUS:CONFIRMED
TRANSP:OPAQUE
END:VEVENT
END:VCALENDAR
