BEGIN:VCALENDAR
VERSION:2.0
METHOD:PUBLISH
BEGIN:VEVENT
DTSTART:20250530T130000Z
DTEND:20250531T180000Z
LOCATION:Norwalk, CT 06850
TRANSP: OPAQUE
SEQUENCE:0
UID:
DTSTAMP:20260424T042522Z
SUMMARY:Moving Sale- Norwalk
DESCRIPTION:Moving Sale- Norwalk Chaos2Calm Home Editing, LLC 
UID:1777026322
STREET-ADDRESS:See website
POSTAL-CODE:06850
LOCALITY:Norwalk
REGION:ABBREV=CT
COUNTRY:ABBREV=US;ABBREV=USA:United States
URL;TYPE=Event Listing:https://estatesales.org/estate-sales/ct/norwalk-/06850/moving-sale-norwalk-2381627
PRIORITY:1
CLASS:PUBLIC
SEQUENCE:0
STATUS:CONFIRMED
TRANSP:OPAQUE
END:VEVENT
END:VCALENDAR
