BEGIN:VCALENDAR
VERSION:2.0
METHOD:PUBLISH
BEGIN:VEVENT
DTSTART:20240530T160000Z
DTEND:20240601T220000Z
LOCATION:Arvada, CO 80003
TRANSP: OPAQUE
SEQUENCE:0
UID:
DTSTAMP:20260422T131811Z
SUMMARY:Pat's Place.
DESCRIPTION:Pat's Place. TCS Estate Sales 
UID:1776885491
STREET-ADDRESS:See website
POSTAL-CODE:80003
LOCALITY:Arvada
REGION:ABBREV=CO
COUNTRY:ABBREV=US;ABBREV=USA:United States
URL;TYPE=Event Listing:https://estatesales.org/estate-sales/co/arvada/80003/pats-place-2317826
PRIORITY:1
CLASS:PUBLIC
SEQUENCE:0
STATUS:CONFIRMED
TRANSP:OPAQUE
END:VEVENT
END:VCALENDAR
