BEGIN:VCALENDAR
VERSION:2.0
METHOD:PUBLISH
BEGIN:VEVENT
DTSTART:20200530T170000Z
DTEND:20200610T173100Z
LOCATION:Alvin, TX 77511
TRANSP: OPAQUE
SEQUENCE:0
UID:
DTSTAMP:20260424T180521Z
SUMMARY:HALF OFF EVERYTHING! ALVIN
DESCRIPTION:HALF OFF EVERYTHING! ALVIN Dignity 2 Destiny 
UID:1777075521
STREET-ADDRESS:See website
POSTAL-CODE:77511
LOCALITY:Alvin
REGION:ABBREV=TX
COUNTRY:ABBREV=US;ABBREV=USA:United States
URL;TYPE=Event Listing:https://estatesales.org/estate-sales/tx/alvin/77511/half-off-everything-alvin-1786305
PRIORITY:1
CLASS:PUBLIC
SEQUENCE:0
STATUS:CONFIRMED
TRANSP:OPAQUE
END:VEVENT
END:VCALENDAR
