BEGIN:VCALENDAR
VERSION:2.0
METHOD:PUBLISH
BEGIN:VEVENT
DTSTART:20200530T170000Z
DTEND:20200531T220000Z
LOCATION:By appointment only.
TRANSP: OPAQUE
SEQUENCE:0
UID:
DTSTAMP:20260420T020311Z
SUMMARY:Unique Vintage Collections. Contemporary and Current Items. Appointment Only. PACKED House-Garage!
DESCRIPTION:Unique Vintage Collections. Contemporary and Current Items. Appointment Only. PACKED House-Garage! Triumphant Estate Sales of Los Angeles 
UID:1776672191
STREET-ADDRESS:See website
POSTAL-CODE:91105
LOCALITY:Pasadena
REGION:ABBREV=CA
COUNTRY:ABBREV=US;ABBREV=USA:United States
URL;TYPE=Event Listing:https://estatesales.org/estate-sales/ca/pasadena/91105/unique-vintage-collections-contemporary-and-1786917
PRIORITY:1
CLASS:PUBLIC
SEQUENCE:0
STATUS:CONFIRMED
TRANSP:OPAQUE
END:VEVENT
END:VCALENDAR
