BEGIN:VCALENDAR
VERSION:2.0
METHOD:PUBLISH
BEGIN:VEVENT
DTSTART:20200530T120000Z
DTEND:20200601T160000Z
LOCATION:Saint Louis, MO 63131
TRANSP: OPAQUE
SEQUENCE:0
UID:
DTSTAMP:20260419T103435Z
SUMMARY:Des Peres Sale 
DESCRIPTION:Des Peres Sale  STL Antiques & Estate Sales 
UID:1776616475
STREET-ADDRESS:See website
POSTAL-CODE:63131
LOCALITY:Saint Louis
REGION:ABBREV=MO
COUNTRY:ABBREV=US;ABBREV=USA:United States
URL;TYPE=Event Listing:https://estatesales.org/estate-sales/mo/des-peres/63131/des-peres-sale-1783737
PRIORITY:1
CLASS:PUBLIC
SEQUENCE:0
STATUS:CONFIRMED
TRANSP:OPAQUE
END:VEVENT
END:VCALENDAR
