BEGIN:VCALENDAR
VERSION:2.0
METHOD:PUBLISH
BEGIN:VEVENT
DTSTART:20260529T160000Z
DTEND:20260531T200000Z
LOCATION:Beaverton, OR 97008 (Full address will be shown on Fri, May 29 8:00am)
TRANSP: OPAQUE
SEQUENCE:0
UID:
DTSTAMP:20260423T074341Z
SUMMARY:The Rusty Trunk LLC opens to “Mid-Century Antiques & Art” Estate Sale
DESCRIPTION:The Rusty Trunk LLC opens to “Mid-Century Antiques & Art” Estate Sale The Rusty Trunk LLC 
UID:1776951821
STREET-ADDRESS:See website
POSTAL-CODE:97008
LOCALITY:Beaverton
REGION:ABBREV=OR
COUNTRY:ABBREV=US;ABBREV=USA:United States
URL;TYPE=Event Listing:https://estatesales.org/estate-sales/or/beaverton/97008/the-rusty-trunk-llc-opens-2435991
PRIORITY:1
CLASS:PUBLIC
SEQUENCE:0
STATUS:CONFIRMED
TRANSP:OPAQUE
END:VEVENT
END:VCALENDAR
