BEGIN:VCALENDAR
VERSION:2.0
METHOD:PUBLISH
BEGIN:VEVENT
DTSTART:20260529T130000Z
DTEND:20260531T180000Z
LOCATION:Nashville, TN 37215 (Full address will be shown on Thu, May 28 9:00am)
TRANSP: OPAQUE
SEQUENCE:0
UID:
DTSTAMP:20260422T210056Z
SUMMARY:HUGE Nashville Estate Sale: Phase 1
DESCRIPTION:HUGE Nashville Estate Sale: Phase 1 Estate Greats 
UID:1776913256
STREET-ADDRESS:See website
POSTAL-CODE:37215
LOCALITY:Nashville
REGION:ABBREV=TN
COUNTRY:ABBREV=US;ABBREV=USA:United States
URL;TYPE=Event Listing:https://estatesales.org/estate-sales/tn/nashville-/37215/huge-nashville-estate-sale-phase-2436690
PRIORITY:1
CLASS:PUBLIC
SEQUENCE:0
STATUS:CONFIRMED
TRANSP:OPAQUE
END:VEVENT
END:VCALENDAR
