BEGIN:VCALENDAR
VERSION:2.0
METHOD:PUBLISH
BEGIN:VEVENT
DTSTART:20260529T120000Z
DTEND:20260531T190000Z
LOCATION:Weaverville, NC 28787 (Full address will be shown on Tue, May 26 12:00am)
TRANSP: OPAQUE
SEQUENCE:0
UID:
DTSTAMP:20260420T221856Z
SUMMARY:Estate 3
DESCRIPTION:Estate 3 Blue Ridge Estate liquidators LLC 
UID:1776745136
STREET-ADDRESS:See website
POSTAL-CODE:28787
LOCALITY:Weaverville
REGION:ABBREV=NC
COUNTRY:ABBREV=US;ABBREV=USA:United States
URL;TYPE=Event Listing:https://estatesales.org/estate-sales/nc/weaverville-/28787/estate-3-2436241
PRIORITY:1
CLASS:PUBLIC
SEQUENCE:0
STATUS:CONFIRMED
TRANSP:OPAQUE
END:VEVENT
END:VCALENDAR
