BEGIN:VCALENDAR
VERSION:2.0
METHOD:PUBLISH
BEGIN:VEVENT
DTSTART:20250529T150000Z
DTEND:20250531T200000Z
LOCATION:Oklahoma City, OK 73106
TRANSP: OPAQUE
SEQUENCE:0
UID:
DTSTAMP:20260423T192956Z
SUMMARY:A MASSIVE Warehouse estate sale full of treasures
DESCRIPTION:A MASSIVE Warehouse estate sale full of treasures Clutter Free LLC 
UID:1776994196
STREET-ADDRESS:See website
POSTAL-CODE:73106
LOCALITY:Oklahoma City
REGION:ABBREV=OK
COUNTRY:ABBREV=US;ABBREV=USA:United States
URL;TYPE=Event Listing:https://estatesales.org/estate-sales/ok/oklahoma-city/73106/a-massive-warehouse-estate-sale-2381201
PRIORITY:1
CLASS:PUBLIC
SEQUENCE:0
STATUS:CONFIRMED
TRANSP:OPAQUE
END:VEVENT
END:VCALENDAR
