BEGIN:VCALENDAR
VERSION:2.0
METHOD:PUBLISH
BEGIN:VEVENT
DTSTART:20250529T150000Z
DTEND:20250531T200000Z
LOCATION:Conifer, CO 80433
TRANSP: OPAQUE
SEQUENCE:0
UID:
DTSTAMP:20260419T061833Z
SUMMARY:Grasons of SW Denver - One heck of a downsizing sale in Conifer!!!
DESCRIPTION:Grasons of SW Denver - One heck of a downsizing sale in Conifer!!! Grasons of Southwest Denver, CO 
UID:1776601113
STREET-ADDRESS:See website
POSTAL-CODE:80433
LOCALITY:Conifer
REGION:ABBREV=CO
COUNTRY:ABBREV=US;ABBREV=USA:United States
URL;TYPE=Event Listing:https://estatesales.org/estate-sales/co/conifer/80433/grasons-of-sw-denver-one-2380291
PRIORITY:1
CLASS:PUBLIC
SEQUENCE:0
STATUS:CONFIRMED
TRANSP:OPAQUE
END:VEVENT
END:VCALENDAR
