BEGIN:VCALENDAR
VERSION:2.0
METHOD:PUBLISH
BEGIN:VEVENT
DTSTART:20180529T160000Z
DTEND:20180529T230000Z
LOCATION:Davis, CA 95616
TRANSP: OPAQUE
SEQUENCE:0
UID:
DTSTAMP:20260421T151904Z
SUMMARY:Helping A Friend In Davis One Day Only
DESCRIPTION:Helping A Friend In Davis One Day Only Estate Sales Help 
UID:1776806344
STREET-ADDRESS:See website
POSTAL-CODE:95616
LOCALITY:Davis
REGION:ABBREV=CA
COUNTRY:ABBREV=US;ABBREV=USA:United States
URL;TYPE=Event Listing:https://estatesales.org/estate-sales/ca/davis/95616/helping-a-friend-in-davis-1522767
PRIORITY:1
CLASS:PUBLIC
SEQUENCE:0
STATUS:CONFIRMED
TRANSP:OPAQUE
END:VEVENT
END:VCALENDAR
